BEGIN:VCALENDAR
VERSION:2.0
PRODID:-//eventon.com NONSGML v1.0//EN
CALSCALE:GREGORIAN
METHOD:PUBLISH
BEGIN:VEVENT
UID:69e5e0a55d9f4
DTSTAMP:20260420T081533Z
DTSTART:20211206
DTEND:20211207
LOCATION:
SUMMARY:Year 1 Literature Centre Incursion
DESCRIPTION:Each class will be involved in a highly interactive and explora
 tory workshop with one of the knowledgeable and engaging Education Officers
  from The Literature Centre. They will explore picture book conventions\,  
 original artworks by an illustrator\,  visual and language elements used in
  story writing and learn about how and why[..]\nhttps://settlersps.wa.edu.a
 u/events/year-1-literature-centre-incursion/
URL:https://settlersps.wa.edu.au/events/year-1-literature-centre-incursion/
END:VEVENT
END:VCALENDAR