BEGIN:VCALENDAR
VERSION:2.0
PRODID:-//eventon.com NONSGML v1.0//EN
CALSCALE:GREGORIAN
METHOD:PUBLISH
BEGIN:VEVENT
UID:69e9ebbf6571c
DTSTAMP:20260423T095159Z
DTSTART:20230630T004000Z
DTEND:20230630T065000Z
LOCATION:
SUMMARY:NAIDOC Celebrations
DESCRIPTION:For Our Elders\nhttps://settlersps.wa.edu.au/events/naidoc-cele
 brations-2/
URL:https://settlersps.wa.edu.au/events/naidoc-celebrations-2/
END:VEVENT
END:VCALENDAR